BEGIN:VCALENDAR
VERSION:2.0
PRODID:-//eventon.com NONSGML v1.0//EN
CALSCALE:GREGORIAN
METHOD:PUBLISH
BEGIN:VEVENT
UID:69e74d2cb1ba6
DTSTAMP:20260421T101052Z
DTSTART:20250312
DTEND:20250313
LOCATION:
SUMMARY:Mini Z-2 PT
DESCRIPTION:\nhttps://msc-polizei-bs.de/events/mini-z-2-pt/
URL:https://msc-polizei-bs.de/events/mini-z-2-pt/
END:VEVENT
END:VCALENDAR