BEGIN:VCALENDAR
VERSION:2.0
PRODID:-//eventon.com NONSGML v1.0//EN
CALSCALE:GREGORIAN
METHOD:PUBLISH
BEGIN:VEVENT
UID:69e9dcb0b636a
DTSTAMP:20260423T084744Z
DTSTART:20250910
DTEND:20250911
LOCATION:
SUMMARY:Scaleauto 5
DESCRIPTION:\nhttps://msc-polizei-bs.de/events/scaleauto-5/
URL:https://msc-polizei-bs.de/events/scaleauto-5/
END:VEVENT
END:VCALENDAR