BEGIN:VCALENDAR
VERSION:2.0
PRODID:-//eventon.com NONSGML v1.0//EN
CALSCALE:GREGORIAN
METHOD:PUBLISH
BEGIN:VEVENT
UID:69e4cebd98558
DTSTAMP:20260419T124653Z
DTSTART:20260919
DTEND:20260920
LOCATION:
SUMMARY:Die 12 Stunden von Braunschweig 2026
DESCRIPTION:RCE &#8211; 12 Stunden von Braunschweig Langstrecken-Teamrennen
 \nhttps://msc-polizei-bs.de/events/12-std-von-bs/
URL:https://msc-polizei-bs.de/events/12-std-von-bs/
END:VEVENT
END:VCALENDAR